View In:
ArcGIS JavaScript
ArcGIS Online Map Viewer
ArcGIS Earth
Service Description: Aerial/2023Mid
Name: Aerial/2023Mid
Description:
Single Fused Map Cache: false
Extent:
XMin: 445896.0
YMin: 136224.0
XMax: 575256.0
YMax: 167904.5
Spatial Reference: 103712
(103712)
LatestVCSWkid(0)
Initial Extent:
XMin: 445896.0
YMin: 136224.0
XMax: 575256.0
YMax: 167904.5
Spatial Reference: 103712
(103712)
LatestVCSWkid(0)
Full Extent:
XMin: 445896.0
YMin: 136224.0
XMax: 575256.0
YMax: 167904.5
Spatial Reference: 103712
(103712)
LatestVCSWkid(0)
Pixel Size X: 0.5
Pixel Size Y: 0.5
Band Count: 3
Pixel Type: U8
RasterFunction Infos: {"rasterFunctionInfos": [{
"name": "None",
"description": "",
"help": ""
}]}
Mensuration Capabilities: Basic
Inspection Capabilities:
Has Histograms: true
Has Colormap: false
Has Multi Dimensions : false
Rendering Rule:
Min Scale: 0
Max Scale: 0
Copyright Text:
Service Data Type: esriImageServiceDataTypeProcessed
Min Values: 25, 8, 0
Max Values: 255, 255, 255
Mean Values: 159.49362488844, 138.83870967742, 105.26214458753
Standard Deviation Values: 39.026138076603, 42.391430755185, 48.583677433453
Object ID Field:
Fields:
None
Default Mosaic Method: Center
Allowed Mosaic Methods:
SortField:
SortValue: null
Mosaic Operator: First
Default Compression Quality: 75
Default Resampling Method: Bilinear
Max Record Count: null
Max Image Height: 4100
Max Image Width: 15000
Max Download Image Count: null
Max Mosaic Image Count: null
Allow Raster Function: true
Allow Copy: true
Allow Analysis: true
Allow Compute TiePoints: false
Supports Statistics: false
Supports Advanced Queries: false
Use StandardizedQueries: true
Raster Type Infos:
Name: Raster Dataset
Description: Supports all ArcGIS Raster Datasets
Help:
Has Raster Attribute Table: false
Edit Fields Info: null
Ownership Based AccessControl For Rasters: null
Child Resources:
Info
Histograms
Statistics
Key Properties
Legend
Raster Function Infos
Supported Operations:
Export Image
Identify
Measure
Compute Histograms
Compute Statistics Histograms
Get Samples
Compute Class Statistics
Query Boundary
Compute Pixel Location
Compute Angles
Validate
Project